BEGIN:VCALENDAR
VERSION:2.0
PRODID:-// - ECPv6.15.20//NONSGML v1.0//EN
CALSCALE:GREGORIAN
METHOD:PUBLISH
X-ORIGINAL-URL:https://catalystcareergroup.com
X-WR-CALDESC:Events for 
REFRESH-INTERVAL;VALUE=DURATION:PT1H
X-Robots-Tag:noindex
X-PUBLISHED-TTL:PT1H
BEGIN:VTIMEZONE
TZID:Africa/Abidjan
BEGIN:STANDARD
TZOFFSETFROM:+0000
TZOFFSETTO:+0000
TZNAME:GMT
DTSTART:20240101T000000
END:STANDARD
END:VTIMEZONE
BEGIN:VEVENT
DTSTART;TZID=Africa/Abidjan:20250519T100000
DTEND;TZID=Africa/Abidjan:20250519T123000
DTSTAMP:20260423T193608
CREATED:20250331T121751Z
LAST-MODIFIED:20250519T171522Z
UID:23706-1747648800-1747657800@catalystcareergroup.com
SUMMARY:Minneapolis Diversity Job Fair
DESCRIPTION:Plan to attend and meet face-to-face with several of the Minneapolis area’s finest employers.\n\n\nMinneapolis Diversity Job Fair \nMonday\, May 19\, 2025 \n10:00AM – 12:30PM \nEmbassy Suites by Hilton – Minneapolis Airport \n7901 34th Avenue South \nBloomington\, MN 55425 \nPlan to attend and meet face-to-face with several of the Minneapolis area’s finest employers. \nAll of the companies at our job fairs have open positions they are seeking to fill. \nPositions in the following areas are typically available: Sales\, Customer Service\, Call Center\, Management\, General Business\, Marketing\, Retail\, Administrative\, Insurance\, Banking\, Engineering\, Accounting\, Finance\, Education\, Law Enforcement\, Government\, Military\, Hospitality\, Human Resources\, Technicians\, Telemarketing\, Healthcare\, IT\, and more. \nTips for Success: \n\nPre-register—Receive notifications of any updates or changes to the event\, and receive information about upcoming events in your area.\nDress professionally—First impressions go a long way.\nBring multiple copies of your resume.\nArrive any time between 10 AM and 12:30PM—Plan to spend 45 minutes to 1 hour at the event.\nBring a friend—All job seekers are welcome.\nPrepare a brief but effective “brag” to let the people you meet with get to know you.\nKeep an open mind—Meet with as many of the companies as you can; you may be pleasantly surprised at what you find.\n\nRemember\, the best way to be considered for a position is to meet the hiring managers in person. Plan to attend this event! \nQuestions? \nPhone: 815.308.5426
URL:https://catalystcareergroup.com/event/minneapolis-diversity-job-fair-may2025/
LOCATION:Embassy Suites by Hilton Minneapolis Airport\, 7901 34th Avenue South\, Bloomington\, MN 55425\, Bloomington\, MN\, 55425\, US
CATEGORIES:North Central
ATTACH;FMTTYPE=image/jpeg:https://catalystcareergroup.com/wp-content/uploads/2023/10/19_image_original.jpg
END:VEVENT
BEGIN:VEVENT
DTSTART;TZID=Africa/Abidjan:20250520T100000
DTEND;TZID=Africa/Abidjan:20250520T123000
DTSTAMP:20260423T193608
CREATED:20250331T131544Z
LAST-MODIFIED:20250521T011553Z
UID:23709-1747735200-1747744200@catalystcareergroup.com
SUMMARY:Madison Diversity Job Fair
DESCRIPTION:Plan to attend and meet face-to-face with several of the Madison area’s finest employers.\n\n\nMadison Diversity Job Fair \nTuesday\, May 20\, 2025 \n10:00AM – 12:30PM \nSheraton Madison Hotel \n706 John Nolen Drive \nMadison\, WI\, 53713 \nPlan to attend and meet face-to-face with several of the Madison area’s finest employers. \nAll of the companies at our job fairs have open positions they are seeking to fill. \nPositions in the following areas are typically available: Sales\, Customer Service\, Call Center\, Management\, General Business\, Marketing\, Retail\, Administrative\, Insurance\, Banking\, Engineering\, Accounting\, Finance\, Education\, Law Enforcement\, Government\, Military\, Hospitality\, Human Resources\, Technicians\, Telemarketing\, Healthcare\, IT\, and more. \nTips for Success: \n\nPre-register—Receive notifications of any updates or changes to the event\, and receive information about upcoming events in your area.\nDress professionally—First impressions go a long way.\nBring multiple copies of your resume.\nArrive any time between 10 AM and 12:30PM—Plan to spend 45 minutes to 1 hour at the event.\nBring a friend—All job seekers are welcome.\nPrepare a brief but effective “brag” to let the people you meet with get to know you.\nKeep an open mind—Meet with as many of the companies as you can; you may be pleasantly surprised at what you find.\n\nRemember\, the best way to be considered for a position is to meet the hiring managers in person. Plan to attend this event! \nEMPLOYERS INTERESTED IN ATTENDING THIS JOB FAIR \nEmployers – call (815) 308-5426 to register or to find out more about participating in this recruiting event. \nOr visit catalystcareergroup.com. One of our staff will send you the information you need to register and participate. \nINDUSTRIES THAT JOIN OUR CATALYST CAREER GROUP JOB FAIRS AND OPEN POSITIONS INCLUDE: Administrative and Support Services\, Accounting\, Advertising\, Air Transportation\, Automotive\, Banking\, Beauty & Cosmetics\, Biotechnology\, Collections\, Chemical\, Communications\, Computer\, Construction\, Consulting\, Consumer Products\, Education\, Electronics\, Employment\, Energy\, Entertainment & Recreation\, Fashion\, Finance and Insurance\, Food & Beverage\, Government (Federal State and Local)\, Healthcare\, Home Health\, Home Improvement\, Hospitals\, Information Technology\, Law Enforcement\, Legal Services\, Leisure and Hospitality\, Logistics\, Manufacturing\, Media & Broadcasting\, Medical Device\, Medical Supplies\, Military\, Motor Vehicle and Parts Dealers\, Oil and Gas\, Pharmaceutical\, Public Administration\, Public Relations\, Publishing\, Professional and Business Services\, Real Estate Rental and Leasing\, Retailers\, Security Services\, Service\, Social Services\, Software\, Technology\, Telecommunications\, Tourism\, Transportation\, Travel\, Utilities\, Warehousing and Storage. \nAccount Executive\, Account Manager\, Accounting\, Accounts Payable\, Accounts Receivable\, Administrative Assistant\, B2B Sales\, B2C Sales\, Business Development Manager\, Collections Representative\, Customer Service\, Customer Relations Representative\, CDL\, CNC\, Call Center\, CNA\, Data Analytics\, Developer\, Direct Care Provider\, Driver\, Education\, Engineer\, Executive Assistant\, Financial Advisor\, Financial Services Representative\, Financial Analyst\, General Business\, Government Jobs\, Human Resources\, Healthcare Worker\, Help Desk\, Inside Sales\, Insurance Sales\, IT\, Law Enforcement\, Management\, Management Trainee\, Marketing Coordinator\, Nurse\, Outside Sales\, Operations Management\, Personal Bankers\, Pickers\, Packers\, Retail\, Sales Associate\, Sales Manager\, Sales Representative\, Social Workers\, Soldier\, Stocker\, Supervisor\, RN\, Teacher\, Technician\, Telemarketing\, Telemarketer\, Teller\, Warehouse\, Warehouse Manager. \nKey Words: Job Fair in MADISON\, Jobs in MADISON\, Sales positions in MADISON\, Hiring in MADISON\, MADISON Jobs\, MADISON Job Openings\, MADISON Job Fairs\, Career Fair in MADISON\, MADISON Career Fair. \nArea: Madison\, WI.
URL:https://catalystcareergroup.com/event/madison-diversity-job-fair-may2025/
LOCATION:Sheraton Madison Hotel\, 706 John Nolen Drive\, Madison\, WI 53713\, Madison\, WI\, 53713\, US
CATEGORIES:North Central
ATTACH;FMTTYPE=image/jpeg:https://catalystcareergroup.com/wp-content/uploads/2023/10/29_image.jpg
END:VEVENT
BEGIN:VEVENT
DTSTART;TZID=Africa/Abidjan:20250520T100000
DTEND;TZID=Africa/Abidjan:20250520T123000
DTSTAMP:20260423T193608
CREATED:20250331T141614Z
LAST-MODIFIED:20250521T011554Z
UID:23715-1747735200-1747744200@catalystcareergroup.com
SUMMARY:Fort Worth Job Fair
DESCRIPTION:Meet with companies hiring in the Dallas/Fort Worth area.\n\n\nFORT WORTH JOB FAIR \nTuesday\, May 20\, 2025 \n10:00am to 12:30pm \nSpringHill Suites Fort Worth University \n3250 Lovell Avenue \nFort Worth\, TX 76107-5730 \n \nJob seekers attend at no cost. \nPlan to attend and meet face-to-face with several of the Dallas/Fort Worth area’s finest employers. \nAll of the companies at our job fairs have open positions they are seeking to fill. \nTips for Success: \n\nPre-register—Receive notifications of any updates or changes to the event\, and receive information about upcoming events in your area.\nDress professionally—First impressions go a long way.\nBring multiple copies of your resume.\nArrive any time between 10AM and 12:30PM—Plan to spend 45 minutes to 1 hour at the event.\nBring a friend—All job seekers are welcome.\nPrepare a brief but effective “brag” to let the people you meet with get to know you.\nKeep an open mind—Meet with as many of the companies as you can; you may be pleasantly surprised at what you find.\n\nRemember\, the best way to be considered for a position is to meet the hiring managers in person. Plan to attend this event! \nEMPLOYERS INTERESTED IN ATTENDING THIS JOB FAIR \nEmployers – call (815) 308-5426 to register or to find out more about participating in this recruiting event. \nOr visit catalystcareergroup.com. One of our staff will send you the information you need to register and participate. \nINDUSTRIES THAT JOIN OUR CATALYST CAREER GROUP JOB FAIRS AND OPEN POSITIONS INCLUDE: Administrative and Support Services\, Accounting\, Advertising\, Air Transportation\, Automotive\, Banking\, Beauty & Cosmetics\, Biotechnology\, Collections\, Chemical\, Communications\, Computer\, Construction\, Consulting\, Consumer Products\, Education\, Electronics\, Employment\, Energy\, Entertainment & Recreation\, Fashion\, Finance and Insurance\, Food & Beverage\, Government (Federal State and Local)\, Healthcare\, Home Health\, Home Improvement\, Hospitals\, Information Technology\, Law Enforcement\, Legal Services\, Leisure and Hospitality\, Logistics\, Manufacturing\, Media & Broadcasting\, Medical Device\, Medical Supplies\, Military\, Motor Vehicle and Parts Dealers\, Oil and Gas\, Pharmaceutical\, Public Administration\, Public Relations\, Publishing\, Professional and Business Services\, Real Estate Rental and Leasing\, Retailers\, Security Services\, Service\, Social Services\, Software\, Technology\, Telecommunications\, Tourism\, Transportation\, Travel\, Utilities\, Warehousing and Storage. \nAccount Executive\, Account Manager\, Accounting\, Accounts Payable\, Accounts Receivable\, Administrative Assistant\, B2B Sales\, B2C Sales\, Business Development Manager\, Collections Representative\, Customer Service\, Customer Relations Representative\, CDL\, CNC\, Call Center\, CNA\, Data Analytics\, Developer\, Direct Care Provider\, Driver\, Education\, Engineer\, Executive Assistant\, Financial Advisor\, Financial Services Representative\, Financial Analyst\, General Business\, Government Jobs\, Human Resources\, Healthcare Worker\, Help Desk\, Inside Sales\, Insurance Sales\, IT\, Law Enforcement\, Management\, Management Trainee\, Marketing Coordinator\, Nurse\, Outside Sales\, Operations Management\, Personal Bankers\, Pickers\, Packers\, Retail\, Sales Associate\, Sales Manager\, Sales Representative\, Social Workers\, Soldier\, Stocker\, Supervisor\, RN\, Teacher\, Technician\, Telemarketing\, Telemarketer\, Teller\, Warehouse\, Warehouse Manager. \nKey Words: Job Fair in FORT WORTH\, Jobs in FORT WORTH\, Sales positions in FORT WORTH\, Hiring in FORT WORTH\, FORT WORTH Jobs\, FORT WORTH Job openings\, FORT WORTH Job Fairs\, Career Fair in FORT WORTH\, FORT WORTH Career Fair. \nArea: Fort Worth\, TX.
URL:https://catalystcareergroup.com/event/fort-worth-job-fair-may2025/
LOCATION:SpringHill Suites Fort Worth University\, 3250 Lovell Avenue\, Fort Worth\, TX 76107\, Fort Worth\, TX\, 76107\, US
CATEGORIES:South Central
ATTACH;FMTTYPE=image/jpeg:https://catalystcareergroup.com/wp-content/uploads/2024/12/17243_image.jpg
END:VEVENT
BEGIN:VEVENT
DTSTART;TZID=Africa/Abidjan:20250522T100000
DTEND;TZID=Africa/Abidjan:20250522T123000
DTSTAMP:20260423T193608
CREATED:20250331T141617Z
LAST-MODIFIED:20250523T011530Z
UID:23717-1747908000-1747917000@catalystcareergroup.com
SUMMARY:Houston Job Fair
DESCRIPTION:Meet face-to-face with companies hiring in the Houston area.\n\n\nHOUSTON JOB FAIR \nThursday\, May 22\, 2025 \n10:00am to 12:30pm \nEmbassy Suites by Hilton Houston Near the Galleria \n2911 Sage Road \nHouston\, TX 77056 \nJob seekers attend at no cost. \nPlan to attend and meet face-to-face with several of the Houston area’s finest employers. \nAll of the companies at our job fairs have open positions they are seeking to fill. \nTips for Success: \n\nPre-register—Receive notifications of any updates or changes to the event\, and receive information about upcoming events in your area.\nDress professionally—First impressions go a long way.\nBring multiple copies of your resume.\nArrive any time between 10AM and 12:30PM—Plan to spend 45 minutes to 1 hour at the event.\nBring a friend—All job seekers are welcome.\nPrepare a brief but effective “brag” to let the people you meet with get to know you.\nKeep an open mind—Meet with as many of the companies as you can; you may be pleasantly surprised at what you find.\n\nRemember\, the best way to be considered for a position is to meet the hiring managers in person. Plan to attend this event! \nEMPLOYERS INTERESTED IN ATTENDING THIS JOB FAIR \nEmployers – call (815) 308-5426 to register or to find out more about participating in this recruiting event. \nOr visit catalystcareergroup.com. One of our staff will send you the information you need to register and participate. \nINDUSTRIES THAT JOIN OUR CATALYST CAREER GROUP JOB FAIRS AND OPEN POSITIONS INCLUDE: Administrative and Support Services\, Accounting\, Advertising\, Air Transportation\, Automotive\, Banking\, Beauty & Cosmetics\, Biotechnology\, Collections\, Chemical\, Communications\, Computer\, Construction\, Consulting\, Consumer Products\, Education\, Electronics\, Employment\, Energy\, Entertainment & Recreation\, Fashion\, Finance and Insurance\, Food & Beverage\, Government (Federal State and Local)\, Healthcare\, Home Health\, Home Improvement\, Hospitals\, Information Technology\, Law Enforcement\, Legal Services\, Leisure and Hospitality\, Logistics\, Manufacturing\, Media & Broadcasting\, Medical Device\, Medical Supplies\, Military\, Motor Vehicle and Parts Dealers\, Oil and Gas\, Pharmaceutical\, Public Administration\, Public Relations\, Publishing\, Professional and Business Services\, Real Estate Rental and Leasing\, Retailers\, Security Services\, Service\, Social Services\, Software\, Technology\, Telecommunications\, Tourism\, Transportation\, Travel\, Utilities\, Warehousing and Storage. \nAccount Executive\, Account Manager\, Accounting\, Accounts Payable\, Accounts Receivable\, Administrative Assistant\, B2B Sales\, B2C Sales\, Business Development Manager\, Collections Representative\, Customer Service\, Customer Relations Representative\, CDL\, CNC\, Call Center\, CNA\, Data Analytics\, Developer\, Direct Care Provider\, Driver\, Education\, Engineer\, Executive Assistant\, Financial Advisor\, Financial Services Representative\, Financial Analyst\, General Business\, Government Jobs\, Human Resources\, Healthcare Worker\, Help Desk\, Inside Sales\, Insurance Sales\, IT\, Law Enforcement\, Management\, Management Trainee\, Marketing Coordinator\, Nurse\, Outside Sales\, Operations Management\, Personal Bankers\, Pickers\, Packers\, Retail\, Sales Associate\, Sales Manager\, Sales Representative\, Social Workers\, Soldier\, Stocker\, Supervisor\, RN\, Teacher\, Technician\, Telemarketing\, Telemarketer\, Teller\, Warehouse\, Warehouse Manager. \nKey Words: Job Fair in HOUSTON\, Jobs in Key Words: Job Fair in HOUSTON\, Jobs in HOUSTON\, Sales positions in HOUSTON\, Hiring in HOUSTON\, HOUSTON Jobs\, HOUSTON Job openings\, HOUSTON Job Fairs\, Career Fair in HOUSTON\, HOUSTON Career Fair\, Sales positions in HOUSTON\, Hiring in HOUSTON\, HOUSTON Jobs\, HOUSTON Job openings\, HOUSTON Job Fairs\, Career Fair in HOUSTON\, HOUSTON Career Fair. \nArea: Houston\, TX.
URL:https://catalystcareergroup.com/event/houston-job-fair-may2025/
LOCATION:Embassy Suites by Hilton Houston Near the Galleria\, 2911 Sage Road\, Houston\, TX 77056\, Houston\, TX\, 77056\, US
CATEGORIES:South Central
ATTACH;FMTTYPE=image/jpeg:https://catalystcareergroup.com/wp-content/uploads/2024/02/971_image.jpg
END:VEVENT
END:VCALENDAR